BEGIN:VCALENDAR
VERSION:2.0
PRODID:-//dressage4kids.org//NONSGML kigkonsult.se iCalcreator 2.30.10//
CALSCALE:GREGORIAN
METHOD:PUBLISH
UID:b004f0c4-60db-4e48-99ea-f704f2e28225
X-WR-CALDESC:
X-WR-RELCALID:c8f610a174dc3e6c728454a49833fc33
X-WR-TIMEZONE:America/New_York
BEGIN:VTIMEZONE
TZID:America/New_York
BEGIN:STANDARD
TZNAME:EST
DTSTART:20181104T020000
TZOFFSETFROM:-0400
TZOFFSETTO:-0500
RDATE:20191103T020000
RDATE:20201101T020000
END:STANDARD
BEGIN:DAYLIGHT
TZNAME:EDT
DTSTART:20190310T020000
TZOFFSETFROM:-0500
TZOFFSETTO:-0400
RDATE:20200308T020000
END:DAYLIGHT
END:VTIMEZONE
BEGIN:VEVENT
UID:e1fbddee-a381-4930-8bf6-7e4aad4189c5
DTSTAMP:20260421T191127Z
DESCRIPTION:
DTSTART;TZID=America/New_York:20190511T000000
DTEND;TZID=America/New_York:20190512T185900
LOCATION:Rhythm and Blues Equestrian Center in Quaktertown\, PA
SUMMARY:D4K TEAM Clinic
END:VEVENT
END:VCALENDAR
