BEGIN:VCALENDAR
VERSION:2.0
PRODID:-//dressage4kids.org//NONSGML kigkonsult.se iCalcreator 2.30.10//
CALSCALE:GREGORIAN
METHOD:PUBLISH
UID:15a3f7ef-5f9d-4d16-b979-7dae2c362c77
X-WR-CALDESC:
X-WR-RELCALID:8a5453ed4d84573f7688b5da28022c78
X-WR-TIMEZONE:America/New_York
BEGIN:VTIMEZONE
TZID:America/New_York
BEGIN:STANDARD
TZNAME:EST
DTSTART:20181104T020000
TZOFFSETFROM:-0400
TZOFFSETTO:-0500
RDATE:20191103T020000
RDATE:20201101T020000
END:STANDARD
BEGIN:DAYLIGHT
TZNAME:EDT
DTSTART:20190310T020000
TZOFFSETFROM:-0500
TZOFFSETTO:-0400
RDATE:20200308T020000
RDATE:20210314T020000
END:DAYLIGHT
END:VTIMEZONE
BEGIN:VEVENT
UID:32a125d5-1513-42f8-acda-2954363ef509
DTSTAMP:20260420T063648Z
DESCRIPTION:
DTSTART;TZID=America/New_York:20191102T000000
DTEND;TZID=America/New_York:20191103T175900
LOCATION:Heritage Equestrian Center in East Greenwich\, RI
SUMMARY:D4K TEAM Clinic with Mica Mabragaña
END:VEVENT
END:VCALENDAR
