BEGIN:VCALENDAR
VERSION:2.0
PRODID:-//dressage4kids.org//NONSGML kigkonsult.se iCalcreator 2.30.10//
CALSCALE:GREGORIAN
METHOD:PUBLISH
UID:e02a1377-d73a-45f8-8d97-704f3290f226
X-WR-CALDESC:
X-WR-RELCALID:f500e6fbeb2d032f7b3000cb0434e61c
X-WR-TIMEZONE:America/New_York
BEGIN:VTIMEZONE
TZID:America/New_York
BEGIN:STANDARD
TZNAME:EST
DTSTART:20191103T020000
TZOFFSETFROM:-0400
TZOFFSETTO:-0500
RDATE:20201101T020000
END:STANDARD
BEGIN:DAYLIGHT
TZNAME:EDT
DTSTART:20190310T020000
TZOFFSETFROM:-0500
TZOFFSETTO:-0400
RDATE:20200308T020000
RDATE:20210314T020000
END:DAYLIGHT
END:VTIMEZONE
BEGIN:VEVENT
UID:c5182ac3-ff27-46f9-9f90-2be99972c965
DTSTAMP:20260421T134637Z
DESCRIPTION:
DTSTART;TZID=America/New_York:20200216T180000
DTEND;TZID=America/New_York:20200216T200000
LOCATION:The Media Room at Wellington Community High School in Wellington\,
  Florida
SUMMARY:Training4Teaching
END:VEVENT
END:VCALENDAR
