BEGIN:VCALENDAR
VERSION:2.0
PRODID:-//dressage4kids.org//NONSGML kigkonsult.se iCalcreator 2.30.10//
CALSCALE:GREGORIAN
METHOD:PUBLISH
UID:613b8515-d11b-465e-8cc9-0ce30e56c0b6
X-WR-CALDESC:https://dressage4kids.org/programs/training4teaching.html
X-WR-RELCALID:33697e82ae4745bc9067280790e0c501
X-WR-TIMEZONE:America/New_York
BEGIN:VTIMEZONE
TZID:America/New_York
BEGIN:STANDARD
TZNAME:EST
DTSTART:20201101T020000
TZOFFSETFROM:-0400
TZOFFSETTO:-0500
RDATE:20211107T020000
END:STANDARD
BEGIN:DAYLIGHT
TZNAME:EDT
DTSTART:20210314T020000
TZOFFSETFROM:-0500
TZOFFSETTO:-0400
RDATE:20220313T020000
END:DAYLIGHT
END:VTIMEZONE
BEGIN:VEVENT
UID:11daa28c-6dbd-4b58-9082-035d0f1562d5
DTSTAMP:20260421T034618Z
DESCRIPTION:https://dressage4kids.org/programs/training4teaching.html
DTSTART;TZID=America/New_York:20210314T190000
DTEND;TZID=America/New_York:20210314T203000
LOCATION:
SUMMARY:D4K TRAINING4TEACHING - ZOOM
END:VEVENT
END:VCALENDAR
