BEGIN:VCALENDAR
VERSION:2.0
PRODID:-//dressage4kids.org//NONSGML kigkonsult.se iCalcreator 2.30.10//
CALSCALE:GREGORIAN
METHOD:PUBLISH
UID:db25dd39-f25d-43d2-aaa4-f790f5a7f610
X-WR-CALDESC:
X-WR-RELCALID:feb2b67fad37272685c4948415addd08
X-WR-TIMEZONE:America/New_York
BEGIN:VTIMEZONE
TZID:America/New_York
BEGIN:STANDARD
TZNAME:EST
DTSTART:20201101T020000
TZOFFSETFROM:-0400
TZOFFSETTO:-0500
RDATE:20211107T020000
RDATE:20221106T020000
END:STANDARD
BEGIN:DAYLIGHT
TZNAME:EDT
DTSTART:20210314T020000
TZOFFSETFROM:-0500
TZOFFSETTO:-0400
RDATE:20220313T020000
END:DAYLIGHT
END:VTIMEZONE
BEGIN:VEVENT
UID:2e63e0f5-d977-4e39-b00f-0e57847c1e31
DTSTAMP:20260421T154021Z
DESCRIPTION:
DTSTART;TZID=America/New_York:20210522T000000
DTEND;TZID=America/New_York:20210522T235900
LOCATION:Bucks County Horse Park in Revere\, Pennsylvania
SUMMARY:Dressage4Kids Benefit Show at the Bucks County Horse Park
END:VEVENT
END:VCALENDAR
