BEGIN:VCALENDAR
VERSION:2.0
PRODID:-//dressage4kids.org//NONSGML kigkonsult.se iCalcreator 2.30.10//
CALSCALE:GREGORIAN
METHOD:PUBLISH
UID:7b9bc4da-ce5e-4cc7-8fb8-13a616cf1ce5
X-WR-CALDESC:
X-WR-RELCALID:3b44b2d3e49a63b3599f27d6eb2dc3bc
X-WR-TIMEZONE:America/New_York
BEGIN:VTIMEZONE
TZID:America/New_York
BEGIN:STANDARD
TZNAME:EST
DTSTART:20201101T020000
TZOFFSETFROM:-0400
TZOFFSETTO:-0500
RDATE:20211107T020000
RDATE:20221106T020000
END:STANDARD
BEGIN:DAYLIGHT
TZNAME:EDT
DTSTART:20210314T020000
TZOFFSETFROM:-0500
TZOFFSETTO:-0400
RDATE:20220313T020000
END:DAYLIGHT
END:VTIMEZONE
BEGIN:VEVENT
UID:0a6c6ff6-9ee3-4faf-b86f-1a26acd16727
DTSTAMP:20260422T042916Z
DESCRIPTION:
DTSTART;TZID=America/New_York:20210813T000000
DTEND;TZID=America/New_York:20210814T225900
LOCATION:HITS on the Hudson in Saugerties\, New York
SUMMARY:Lendon's Youth Dressage Festival
END:VEVENT
END:VCALENDAR
