BEGIN:VCALENDAR
VERSION:2.0
PRODID:-//dressage4kids.org//NONSGML kigkonsult.se iCalcreator 2.30.10//
CALSCALE:GREGORIAN
METHOD:PUBLISH
UID:fe0d7807-fcb5-4ee1-8477-73518fb8a43d
X-WR-CALDESC:
X-WR-RELCALID:3e047ac93d3d76c7f7c07a3927bbb83e
X-WR-TIMEZONE:America/New_York
BEGIN:VTIMEZONE
TZID:America/New_York
BEGIN:STANDARD
TZNAME:EST
DTSTART:20231105T020000
TZOFFSETFROM:-0400
TZOFFSETTO:-0500
RDATE:20241103T020000
RDATE:20251102T020000
END:STANDARD
BEGIN:DAYLIGHT
TZNAME:EDT
DTSTART:20240310T020000
TZOFFSETFROM:-0500
TZOFFSETTO:-0400
RDATE:20250309T020000
END:DAYLIGHT
END:VTIMEZONE
BEGIN:VEVENT
UID:9efe03fe-a353-49c6-b70f-05f6cf0a5a04
DTSTAMP:20260426T004914Z
DESCRIPTION:
DTSTART;TZID=America/New_York:20240518T060000
DTEND;TZID=America/New_York:20240519T060001
LOCATION:Faith Hill Farm in East Greenwich\, Rhode Island
SUMMARY:D4K TEAM Clinic
END:VEVENT
END:VCALENDAR
