BEGIN:VCALENDAR
VERSION:2.0
PRODID:-//dressage4kids.org//NONSGML kigkonsult.se iCalcreator 2.30.10//
CALSCALE:GREGORIAN
METHOD:PUBLISH
UID:d64f2c43-c06e-47bb-a06c-9e92dff14be9
X-WR-CALDESC:
X-WR-RELCALID:4a326d25ae141c34ce5e4e2b7ee71b9b
X-WR-TIMEZONE:America/New_York
BEGIN:VTIMEZONE
TZID:America/New_York
BEGIN:STANDARD
TZNAME:EST
DTSTART:20231105T020000
TZOFFSETFROM:-0400
TZOFFSETTO:-0500
RDATE:20241103T020000
RDATE:20251102T020000
END:STANDARD
BEGIN:DAYLIGHT
TZNAME:EDT
DTSTART:20240310T020000
TZOFFSETFROM:-0500
TZOFFSETTO:-0400
RDATE:20250309T020000
RDATE:20260308T020000
END:DAYLIGHT
END:VTIMEZONE
BEGIN:VEVENT
UID:8039b55c-7354-4ef4-8e94-dd528518a6b8
DTSTAMP:20260422T205522Z
DESCRIPTION:
DTSTART;TZID=America/New_York:20241005T060000
DTEND;TZID=America/New_York:20241006T060001
LOCATION:Euphoria Stables in Starke\, Florida
SUMMARY:D4K TEAM Clinic with Maria Lithander
END:VEVENT
END:VCALENDAR
