BEGIN:VCALENDAR
VERSION:2.0
PRODID:-//dressage4kids.org//NONSGML kigkonsult.se iCalcreator 2.30.10//
CALSCALE:GREGORIAN
METHOD:PUBLISH
UID:3bc48021-2be6-4746-89c9-7c22e2f174f4
X-WR-CALDESC:
X-WR-RELCALID:f9dc2df1d400a25736d868d2ec301309
X-WR-TIMEZONE:America/New_York
BEGIN:VTIMEZONE
TZID:America/New_York
BEGIN:STANDARD
TZNAME:EST
DTSTART:20241103T020000
TZOFFSETFROM:-0400
TZOFFSETTO:-0500
RDATE:20251102T020000
END:STANDARD
BEGIN:DAYLIGHT
TZNAME:EDT
DTSTART:20250309T020000
TZOFFSETFROM:-0500
TZOFFSETTO:-0400
RDATE:20260308T020000
END:DAYLIGHT
END:VTIMEZONE
BEGIN:VEVENT
UID:bad24f36-162e-4906-b85b-52fea5478f6a
DTSTAMP:20260422T181017Z
DESCRIPTION:
DTSTART;TZID=America/New_York:20250412T060000
DTEND;TZID=America/New_York:20250413T060001
LOCATION:Highclere Farms in Burlington\, North Carolina
SUMMARY:D4K TEAM Clinic
END:VEVENT
END:VCALENDAR
